BEGIN:VCALENDAR
VERSION:2.0
BEGIN:VEVENT
URL:https://1rodina.cz/index.php/sit-1rodina/udalosti/viewevent/247-vesmir-ma-jaromr-rad 
DTSTART:20240915T000000
DTEND:20240930T000000
SUMMARY:VESMÍR MÁ JAROMŘ RÁD 
DESCRIPTION:Přátelé na snímcích z radaru je nad městečkem kde žiju stále okénko i při pohybu děšťové fronty. Musím se smát když to vidím při pohybu mraků. Napište mi jak to máte a vidíte VY. 
LOCATION:Jaroměř
END:VEVENT
END:VCALENDAR