BEGIN:VCALENDAR
VERSION:2.0
BEGIN:VEVENT
URL:https://1rodina.cz/index.php/sit-1rodina/udalosti/viewevent/248-mame-zalito-tak-to-mame-v-podkrkonosi 
DTSTART:20240915T000000
DTEND:20240930T000000
SUMMARY:MÁME ZALITO, TAK TO MÁME V PODKRKONOŠÍ
DESCRIPTION:Jak to máte u Vás. 
LOCATION:Česká republika 
END:VEVENT
END:VCALENDAR