BEGIN:VCALENDAR
VERSION:2.0
BEGIN:VEVENT
URL:https://1rodina.cz/index.php/sit-1rodina/udalosti/viewevent/249-ta-pece-o-obcany-od-vlady-pekne-smrdi 
DTSTART:20240915T000000
DTEND:20240930T000000
SUMMARY:TA PÉČE O OBČANY OD VLÁDY PĚKNĚ SMRDÍ
DESCRIPTION:CHTĚJÍ ODLOŽIT VOLBY - ONI SE BOJÍ, BOJÍ, BOJÍ VOLEB. Nikdy se o občany nezajímali a teď se můžou přetrhnout, dělají že zvládnou katastrofu a že pro občany dělají maximum, při tom to normálně dělají hasiči a ONI se jenom zviditelňují před volbami, kterých se jak jsem uvedl BOJÍ, BOJÍ, BOJÍ protože ještě nejsou korespondenční. Jak to vidíte Vy
LOCATION:Česká republika 
END:VEVENT
END:VCALENDAR