BEGIN:VCALENDAR
VERSION:2.0
BEGIN:VEVENT
URL:https://1rodina.cz/index.php/sit-1rodina/udalosti/viewevent/250-v-praze-se-v-tichosti-generalove-naco-radili-jak-na-to 
DTSTART:20240916T000000
DTEND:20241031T001500
SUMMARY:V PRAZE SE V TICHOSTI GENERÁLOVÉ NACO RADILI JAK NA TO
DESCRIPTION:A v televizi ani zmínka, zprávy přenášela zahraniční média i naši generálové mluvili anglicky nebo americky a nás tu krmí katastrofou a při tom 66% obyvatel se to nedotklo, 8% majetkové škody 3% ohrožení na životě. Zajímavé je že to katastrofickou kampaň spustili tři dny dopředu a proslýchá se, že těm mrakům někdo pomohl.
LOCATION:Svět
END:VEVENT
END:VCALENDAR