BEGIN:VCALENDAR
VERSION:2.0
BEGIN:VEVENT
URL:https://1rodina.cz/index.php/sit-1rodina/udalosti/viewevent/251-zpatky-na-zem-sipkova-mermeada 
DTSTART:20240916T000000
DTEND:20241031T001500
SUMMARY:ZPÁTKY NA ZEM - ŠÍPKOVÁ MERMEÁDA
DESCRIPTION:Přátelé, nikdy jsem si nemyslel jaká je to pakárna vybírat semínka z šípků na marmeládu. První den jsem je půlil podélně, druhý den jsem zkusil napříč - o trochu lepší a nyní jsem to dovedl k dokonalosti, odříznu bubáka a čípek rozkrojím šikmo a tímto řezem odhalím semínky na obou půlkách tak, že jdou snadněji vyškrábnout.. Chce to hodně trpělivosti a pro odlehčení jsem se Vám chtěl pochlubit jak jsem zdokonalil své dovednosti. Tím chci navázat na stati léčba pravdou a přírodními prostředky. Pěkný den Ivoš
LOCATION:Jaroměř
END:VEVENT
END:VCALENDAR