BEGIN:VCALENDAR
VERSION:2.0
BEGIN:VEVENT
URL:https://1rodina.cz/index.php/sit-1rodina/udalosti/viewevent/252-mam-radost-a-jako-bonus-preju-sam-sobe-i-vam-silu-ducha 
DTSTART:20240917T000000
DTEND:20241231T001500
SUMMARY:MÁM RADOST A JAKO BONUS PŘEJU SÁM SOBÉ I VÁM SÍLU DUCHA
DESCRIPTION:Řeč se mluví a voda teče a trochu se zapomíná na to že kapacita našeho myšlení ( mozku) je  nedozírná a o to se tu hraje, když soustředíme své myšlenky na nejdůležitější cíl - přežít nebudeme potřebovat takové to chlácholení přání všeho nejlepšího k vánocům a tak. Napište mi jaký na to máte SVÚJ názor. Pěkný den Ivoš
LOCATION:Svět
END:VEVENT
END:VCALENDAR