BEGIN:VCALENDAR
VERSION:2.0
BEGIN:VEVENT
URL:https://1rodina.cz/index.php/sit-1rodina/udalosti/viewevent/253-rec-se-mluvi-a-voda-tece-tak-uz-to-na-tomto-svete-chodi 
DTSTART:20240917T000000
DTEND:20241231T001500
SUMMARY:ŘEČ SE MLUVÍ A VODA TEČE TAK UŽ TO NA TOMTO SVĚTĚ CHODÍ
DESCRIPTION:<span>Pořád nechápu údiv nad tím, že napršelo. U nás se pravidelně každé jaro zaplavovala luka a nikdo se tomu nedivil. Jakub Krčín z Jelčan normálně vybudoval na rybníku Svět přepadovou hráz a ta do dneška normálně funguje. Půda je po pěti letech vyschlá a teď když naprší tak Ti co si nevidí na špičku nosu naříkají. Umřelo mnoho lidí na následky jakési virózy a 3 slovy tři lidičky při záplavě a teď se z toho dělá poprask. Příroda je zkrátka taková a ten kdo se dokáže přizpůsobit</span><div> PREŽIJE</div>
LOCATION:SVĚT
END:VEVENT
END:VCALENDAR