BEGIN:VCALENDAR
VERSION:2.0
BEGIN:VEVENT
URL:https://1rodina.cz/index.php/sit-1rodina/udalosti/viewevent/254-sipkova 
DTSTART:20240917T000000
DTEND:20241231T001500
SUMMARY:ŠÍPKOVÁ  
DESCRIPTION:V potu tváře jsem poprvé v životě "uvařil" pár skleniček šípkové. Úplně "náhodou" jsem viděl pořad, kde to popisovali a tak jsem šel a natrhal šípky a teď mi je jasné, že nikdy nikdo neprodával šípkovou marmeládu. Taky jsem dělal Rakytníkovou  + víno a to je proti tomu procházka růžovou zahradou. Bobule se sice pracně otrhají ( doma v kuchyni z ostříhaných větví) a pak v mlýnku celkem snadno odšťaví.  No až se mně zima zeptá co jsem dělal v létě budu se hodně smát.  
LOCATION:Svět
END:VEVENT
END:VCALENDAR