BEGIN:VCALENDAR
VERSION:2.0
BEGIN:VEVENT
URL:https://1rodina.cz/index.php/sit-1rodina/udalosti/viewevent/255-korunovacni-kriz-je-opet-doma 
DTSTART:20240918T000000
DTEND:20241231T001500
SUMMARY:KORUNOVAČNÍ KŘÍŽ JE OPĚT DOMA
DESCRIPTION:Přátelé je to tak
LOCATION:Česká republika 
END:VEVENT
END:VCALENDAR