BEGIN:VCALENDAR
VERSION:2.0
BEGIN:VEVENT
URL:https://1rodina.cz/index.php/sit-1rodina/udalosti/viewevent/256-superuplnek-a-castecne-zatmeni-mesice 
DTSTART:20240918T000000
DTEND:20240919T000000
SUMMARY:SUPERÚPLNĚK A  ČÁSTEČNÉ ZATMĚNÍ MĚSÍCE 
DESCRIPTION:Přátelé dnes ráno bylo možné sledovat tuto vesmírnou událost a je k vidění na internetu
LOCATION:Česká republika 
END:VEVENT
END:VCALENDAR