BEGIN:VCALENDAR
VERSION:2.0
BEGIN:VEVENT
URL:https://1rodina.cz/index.php/sit-1rodina/udalosti/viewevent/257-secteno-podtrzeno-je-tu-325-blanickych-rytiru 
DTSTART:20240918T000000
DTEND:20241231T001500
SUMMARY:SEČTENO, PODTRŽENO  JE TU  325 Blanických Rytířů
DESCRIPTION:Tiše monitorují situaci a zatím dřímají a přispěchají na pomoc jakmile to uznají za vhodné. NO JE TO SÍLA
LOCATION:Česká republika 
END:VEVENT
END:VCALENDAR