BEGIN:VCALENDAR
VERSION:2.0
BEGIN:VEVENT
URL:https://1rodina.cz/index.php/sit-1rodina/udalosti/viewevent/258-poslusne-hlasim-ze-ziju 
DTSTART:20240919T000000
DTEND:20241231T001500
SUMMARY:POSLUŠNĚ HLÁSÍM ŽE ŽIJU
DESCRIPTION:A mám dobrý pocit z dění na planetě, úplně cítím jak se to otrokářství hroutí samo do sebe, sleduji s úsměvem ty výkřiky do tmy, tápou a vykřikují každou chvíli něco jiného jsou úplně bezradní
LOCATION:Svět
END:VEVENT
END:VCALENDAR