BEGIN:VCALENDAR
VERSION:2.0
BEGIN:VEVENT
URL:https://1rodina.cz/index.php/sit-1rodina/udalosti/viewevent/259-svetovi-lidri-na-volodi-mira-zvysoka 
DTSTART:20240919T000000
DTEND:20240930T000000
SUMMARY:SVĚTOVÍ  LÍDŘI NA VOLODI- MÍRA ZVYSOKA...
DESCRIPTION:Přátelé plánované divadlo (o podpoře nejdemokratičtějšího herce setrvávajícího ve funkci po uplynutí jeho mandátu) SE NEKONÁ po té, co světoví vůdci odmítli na setkání přijít aby mu zajistili velkou podporu před zasedáním rady OSN cca 24.9.2024.
LOCATION:SVĚT
END:VEVENT
END:VCALENDAR