BEGIN:VCALENDAR
VERSION:2.0
BEGIN:VEVENT
URL:https://1rodina.cz/index.php/sit-1rodina/udalosti/viewevent/26-zakat-vychazeni-slepic 
DTSTART:20231025T000000
DTEND:20231025T001500
SUMMARY:ZÁKAT VYCHÁZENÍ SLEPIC
DESCRIPTION:Přátelé, asi před rokem začali opět strašit s ptačí chřipkou a vyhlásili zákaz vycházení pro slepice a zřejmě i pro papoušky. No a já jsem normálně nechal slepice volně pást n a svém pozemku. No a šel jsem koupit jablka do zemědělského družstva a v prodejně jsem prodavačce říkal, že opět straší s nějakou chřipkou a nevím jestli od nich mohu chytit rýmu nebo kašel. a že se moje  slepice normálně pasou pod stromy. Prodavačka se zamyslela a povídá, " ŽE VY JSTE JIM TO NEŘEK. No a všichni v prodejně jsme se od srdce zasmáli a podle statistik jsme si tím asi o tři vteřiny prodloužili život.
LOCATION:Královéhradecký kraj
END:VEVENT
END:VCALENDAR