BEGIN:VCALENDAR
VERSION:2.0
BEGIN:VEVENT
URL:https://1rodina.cz/index.php/sit-1rodina/udalosti/viewevent/261-pristihl-jsem-se-pri-nicnedelani 
DTSTART:20240920T000000
DTEND:20240930T000000
SUMMARY:PŘISTIHL JSEM SE PŘI NICNEDĚLÁNÍ
DESCRIPTION:Přátelé je docela slastný pocit jen tak existovat a nechat věci plynout. Potom chvíli působit jen tak do vesmíru a pozorovat jek se věci dějí. Nemuset nikoho o ničem přesvědčovat. Takové mám dnes pocity.   
LOCATION:Svět
END:VEVENT
END:VCALENDAR