BEGIN:VCALENDAR
VERSION:2.0
BEGIN:VEVENT
URL:https://1rodina.cz/index.php/sit-1rodina/udalosti/viewevent/262-zijeme-v-nadherne-zemicce 
DTSTART:20240922T000000
DTEND:20241231T001500
SUMMARY:ŽIJEME V NÁDHERNÉ ZEMIČCE
DESCRIPTION:Včera jsem před setkáním vlastenců v Polici Nad Metují prošel okolí  ( cca 30 km) a naplnilo mne to pokorou. Jednak jsem prošel potůčky které napájejí řeku u jejíhož ústí do Labe žiju, Viděl jsem zde pást krávy a lidičky kteří v potu tváře obdělávají políčka a obstarávají pastviny. Vylezl jsem na kopec Turov kde jsem v kamenném kruhu uvítal východ slunce a ještě před tím pozoroval pohyb zeměkoule na pohybu Velkého vozu od 04.00 hod. do 08.00 hod. Uvědomil jsem si nesmírnou krásu života v tomto prostoru. Tak to cítím.
LOCATION:Vesmír
END:VEVENT
END:VCALENDAR