BEGIN:VCALENDAR
VERSION:2.0
BEGIN:VEVENT
URL:https://1rodina.cz/index.php/sit-1rodina/udalosti/viewevent/263-vratili-nam-korunovacni-kriz 
DTSTART:20240923T000000
DTEND:20241231T001500
SUMMARY:VRÁTILI NÁM KORUNOVAČNÍ KŘÍŽ
DESCRIPTION:Bez komentáře
LOCATION:Česká republika
END:VEVENT
END:VCALENDAR