BEGIN:VCALENDAR
VERSION:2.0
BEGIN:VEVENT
URL:https://1rodina.cz/index.php/sit-1rodina/udalosti/viewevent/265-kocour-neni-doma-a-je-zde-80-000-dezerteru 
DTSTART:20240923T000000
DTEND:20241031T001500
SUMMARY:KOCOUR NENÍ DOMA  A JE ZDE 80 000 DEZERTÉRÚ
DESCRIPTION:Přátelé, volodi - MIR odfrčel a ukrajinští naverbovaní chudáci odmítají bojovat s Rusy. Konečně se jim rozsvítilo v hlavičkách. Taková blbost bojovat bratr proti bratru, otci, sestře , slovanovi, to to trvalo, ale pán bůh za to zaplať JE TO TADY, KONEC VRAŽDĚNÍ SLOVANÚ
LOCATION:Evropa
END:VEVENT
END:VCALENDAR