BEGIN:VCALENDAR
VERSION:2.0
BEGIN:VEVENT
URL:https://1rodina.cz/index.php/sit-1rodina/udalosti/viewevent/27-statni-svatek-ceske-republiky 
DTSTART:20231028T000000
DTEND:20231028T001500
SUMMARY:STÁTNÍ SVÁTEK ČESKÉ REPUBLIKY
DESCRIPTION:<span>Přátelé, nikdo se nemá k zodpovědnosti za vyvěšení cizí státní vlajky na Národním muzeu v Praze. </span><div>No a podle zákona se na státních budovách vyvěšuje státní vlajka  v den před datem v 16.00 hodin a svěšuje se druhý den po státním svátku v 8.. hodin. Zajímá mne jestli se tak podle zákona děje a prosím kdo jste z Prahy napište jak se zákon dodržuje. </div>
LOCATION:Královéhradecký kraj
END:VEVENT
END:VCALENDAR