BEGIN:VCALENDAR
VERSION:2.0
BEGIN:VEVENT
URL:https://1rodina.cz/index.php/sit-1rodina/udalosti/viewevent/273-luxus-v-dubaji-ale 
DTSTART:20241002T000000
DTEND:20241231T001500
SUMMARY:LUXUS V DUBAJI  - ALE
DESCRIPTION:Přátelé viděl jsem video o klimatizovaných ulicích taxících bez řidiče a drontaxi, bankomaty na zlato, pozlacené džípy na tůry v poušti a když jsem se potom podíval z okna hřálo mne u srdce že můžu prožít ten svůj sen s širší rodinou slepicemi, psem, kočkami a všemi těmi řekami kytkami a docela se mi ulevilo že nejsem robot obsluhovaný roboty. ŽIJEME V KRÁSNÉM PROSTŘEDÍ  
LOCATION:Svět
END:VEVENT
END:VCALENDAR