BEGIN:VCALENDAR
VERSION:2.0
BEGIN:VEVENT
URL:https://1rodina.cz/index.php/sit-1rodina/udalosti/viewevent/274-rusove-si-z-f-16-delaji-srandu 
DTSTART:20241002T000000
DTEND:20241231T001500
SUMMARY:RUSOVÉ SI Z F-16 DĚLAJÍ  SRANDU 
DESCRIPTION:Přátelé při rutijním kontrolním letu  v mezinárodním prostoru  u Aljašky dvou ruských bombardérů zn. Tupolev se na ně přilepila americká F-16 a  dělal vlny a Ruská stíhačka mu ukázala kdo je ve vzduchu PÁNEM, přeletěla v těsné blízkosti zamávala křídly a tím mu vzala vzduch a američan přistál s plnými kalhotami. Mají z toho Vánoce co Rusové umí .
LOCATION:Svět
END:VEVENT
END:VCALENDAR