BEGIN:VCALENDAR
VERSION:2.0
BEGIN:VEVENT
URL:https://1rodina.cz/index.php/sit-1rodina/udalosti/viewevent/277-informacni-letak-naseho-hnuti 
DTSTART:20241006T000000
DTEND:20250930T001500
SUMMARY:INFORMAČNÍ LETÁK NAŠEHO HNUTÍ
DESCRIPTION:<span>Přátelé po zkušenosti s roznášením letáků k evropským volbám jsem vypotil informační leták na podporu Našeho hnutí. Při roznášení jsem zjistil, že občané o nás vůbec nevědí a svou činností jsem přesvědčil 17 občanů k volbě Hnutí Česká republika na 1. místě. Je to námět na opravdovou práci ve prospěch naší vlasti.</span><div>Informační leták navrhnu sněmu ke schválení. Napište mi na to svůj názor</div>
LOCATION:Česká republika 
END:VEVENT
END:VCALENDAR