BEGIN:VCALENDAR
VERSION:2.0
BEGIN:VEVENT
URL:https://1rodina.cz/index.php/sit-1rodina/udalosti/viewevent/278-dnes-ma-svatek-stefan 
DTSTART:20241009T000000
DTEND:20241010T000000
SUMMARY:Dnes má svátek ŠTEFAN
DESCRIPTION:Slaví i Štefan Bartok, přeju Ti Štefane splnění všech Tvých snů
LOCATION:Náchodsko
END:VEVENT
END:VCALENDAR