BEGIN:VCALENDAR
VERSION:2.0
BEGIN:VEVENT
URL:https://1rodina.cz/index.php/sit-1rodina/udalosti/viewevent/279-prijemne-zastaveni 
DTSTART:20241010T000000
DTEND:20241231T001500
SUMMARY:PŘÍJEMNÉ ZASTAVENÍ 
DESCRIPTION:V tom kolotoči světa v té naprogramované bezhlavé jízdě k mlhavému cíli je dobré si uvědomit ŽE CESTA JE CÍL. Je to jako když jedeš autem a vnímáš jen stromořadí kolem cesty a naproti tomu když tu samou cestu jdeš pěšky nejen že uslyšíš zpěv ptáků také potkáš lidičky usmějete se na sebe pokecáte pohledíte jejich psa to je ten pravý  důvod proč tu jsme. Už se mi ježí chlupy na rukou když čtu JEDEME DÁL Nechápu kam bychom  bezhlavě jezdili když život je TADY tam kde právě jsme a není potřeba se honit za CHYMÉROU. Napište mi Váš názor.
LOCATION:SVĚT
END:VEVENT
END:VCALENDAR