BEGIN:VCALENDAR
VERSION:2.0
BEGIN:VEVENT
URL:https://1rodina.cz/index.php/sit-1rodina/udalosti/viewevent/28-spojeni-vlastenecke-jednoty 
DTSTART:20231117T000000
DTEND:20231117T001500
SUMMARY:SPOJENÍ VLASTENECKÉ JEDNOTY
DESCRIPTION:<span>Přátelé. Po jednání Ládi máme podporu 42 podobně smýšlejících uskupení. To mne hřeje.</span><div><br /></div><div><br /></div><div><br /></div><div><br /></div><div><br /></div>
LOCATION:Královéhradecký kraj
END:VEVENT
END:VCALENDAR