BEGIN:VCALENDAR
VERSION:2.0
BEGIN:VEVENT
URL:https://1rodina.cz/index.php/sit-1rodina/udalosti/viewevent/280-zizkuv-mec-nam-svedove-milostive-zapujci 
DTSTART:20241010T000000
DTEND:20241130T001500
SUMMARY:ŽIŽKÚV MEČ NÁM ŠVÉDOVÉ MILOSTIVĚ ZAPÚJČÍ
DESCRIPTION:Přátelé, Švédsko nám milostivě zapůjčí ukradený Žižkův meč na výstavu k 600 letému výročí oslav Jana Žižky z Trocnova. Jsem přesvědčen že tento meč posílí ochranné pole naší vlasti. Ale hlava mi to nebere jak někdo může s prokazatelně ukradnou "věcí" kšeftovat.
LOCATION:Svět
END:VEVENT
END:VCALENDAR