BEGIN:VCALENDAR
VERSION:2.0
BEGIN:VEVENT
URL:https://1rodina.cz/index.php/sit-1rodina/udalosti/viewevent/281-politik-na-jedno-pouziti 
DTSTART:20241010T000000
DTEND:20241031T000000
SUMMARY:POLITIK NA JEDNO POUŽITÍ
DESCRIPTION:Přátelé tuto metodu používají i podnikatelé. Berou zboží na dluh (fakturu = peníze na cestě) a poté se s ním přestanou bavit a najdou si jiného dodavatele ( vykonavatele) na JEDNO POUŽITÍ  a to se právě děle se Spejblem
LOCATION:Svět
END:VEVENT
END:VCALENDAR