BEGIN:VCALENDAR
VERSION:2.0
BEGIN:VEVENT
URL:https://1rodina.cz/index.php/sit-1rodina/udalosti/viewevent/282-cista-hlava 
DTSTART:20241012T000000
DTEND:20241231T001500
SUMMARY:ČISTÁ HLAVA
DESCRIPTION:Přátelé je to krásný pocit jít krajinou  podél řeky - divoké nespoutané Staré Metuje obcházet kaluže s uspokojením, že země je nasáklá vodou a vnímat slunce a vítr a kochat se stavem bez myšlenek prostě čistá hlava. Klidně bych mohl ty dvě hodiny prosedět na gauči. Tohle je skutečný elixír a věřím tomu co se říká, že člověk jak prochází krajinou a přechází přes různě energeticky vyzařující místa tělo se zharmonizuje a dostane do rovnováhy a zdraví je rovnovážný stav. Ale človíček musí zvednou zadek a jít.     
LOCATION:Svět
END:VEVENT
END:VCALENDAR