BEGIN:VCALENDAR
VERSION:2.0
BEGIN:VEVENT
URL:https://1rodina.cz/index.php/sit-1rodina/udalosti/viewevent/283-bezi-bezi-hrr-na-ve-volal-bratr-zizka-a-ted-se-v-duchu-smeje 
DTSTART:20241013T000000
DTEND:20241231T001500
SUMMARY:BĚŽÍ, BĚŽÍ,  HRR NA VĚ, VOLAL BRATR ŽIŽKA A TEĎ SE V DUCHU SMĚJE
DESCRIPTION:Přátelé dle slov demokratických válečníků demoralizovaní vojáci utíkají o život směrem ke spojencům tak jako v minulosti napoleon, hitler a šmejdy podporovaní bělogvardějci. POTVRZUJE SE ŽE MEDVĚDA NIKDY NIKDO ...AMEN. 
LOCATION:Svět
END:VEVENT
END:VCALENDAR