BEGIN:VCALENDAR
VERSION:2.0
BEGIN:VEVENT
URL:https://1rodina.cz/index.php/sit-1rodina/udalosti/viewevent/284-miluju-svou-vlast-a-budu-slavit 
DTSTART:20241013T000000
DTEND:20241031T000000
SUMMARY:MILUJU SVOU VLAST A BUDU SLAVIT 
DESCRIPTION:Přátelé vnímám převratnou změnu světového řádu a konec otroctví a oslavím ji na svátku naší státnosti se všemi lidičkami dobré vůle v Praze. 
LOCATION:Česká republika
END:VEVENT
END:VCALENDAR