BEGIN:VCALENDAR
VERSION:2.0
BEGIN:VEVENT
URL:https://1rodina.cz/index.php/sit-1rodina/udalosti/viewevent/286-brigadnici-ted-prodaji-kravku-a-na-jare-uz-nezaseji 
DTSTART:20241014T000000
DTEND:20241130T001500
SUMMARY:BRIGÁDNÍCI TEĎ PRODAJÍ KRAVKU A NA JAŘE UŽ NEZASEJÍ
DESCRIPTION:Ti šťastnější berou nohy na ramena zbytek je biomasa. No a na jaro je i zemina zorána a provzdušněna. Tato agrotechnika byla vytvořena psychopaty. 
LOCATION:Svět
END:VEVENT
END:VCALENDAR