BEGIN:VCALENDAR
VERSION:2.0
BEGIN:VEVENT
URL:https://1rodina.cz/index.php/sit-1rodina/udalosti/viewevent/287-babi-leto-do-nedele-slunicko 
DTSTART:20241016T000000
DTEND:20241031T000000
SUMMARY:BABÍ LÉTO - DO NEDĚLE SLUNÍČKO 
DESCRIPTION:Přátelé dávám vtip k dobru. Chřipku roznášení pouze ženy, protože s teplotou nad 37 stupňů Celsia by žádný muž z postele nevstal.
LOCATION:SVĚT
END:VEVENT
END:VCALENDAR