BEGIN:VCALENDAR
VERSION:2.0
BEGIN:VEVENT
URL:https://1rodina.cz/index.php/sit-1rodina/udalosti/viewevent/288-oresnik 
DTSTART:20241126T000000
DTEND:20250131T001500
SUMMARY:OREŠNIK
DESCRIPTION:<span>Přátelé naprosto</span> změnil světové veřejné mínění a rozložení sil a druhá událost  projekt f-35 je v nesnázích, teď když máme předplaceno řeší konstruktéři mimo jiná CHLAZENÍ MOTIRU navíc je drahá elektronika a na pořadu dne jsou levné bezpilotní drony a tak projekt je zastaralý. No to jen tak. Pěkný den Ivoš
LOCATION:SVĚT
END:VEVENT
END:VCALENDAR