BEGIN:VCALENDAR
VERSION:2.0
BEGIN:VEVENT
URL:https://1rodina.cz/index.php/sit-1rodina/udalosti/viewevent/289-pekne-svatky-vsem-vsem-vsem 
DTSTART:20241222T000000
DTEND:20250101T000000
SUMMARY:PĚKNÉ SVÁTKY VŠEM, VŠEM, VŠEM
DESCRIPTION:Přátelé já už slavím od včera 21.12.2024 od 10.20 hodin kdy začal slunovrat, svátek který slavili Ti co tu byli na návštěvě před námi. 
LOCATION:Vesmír
END:VEVENT
END:VCALENDAR