BEGIN:VCALENDAR
VERSION:2.0
BEGIN:VEVENT
URL:https://1rodina.cz/index.php/sit-1rodina/udalosti/viewevent/29-305-pratel-sledujicich-bdicich 
DTSTART:20231104T000000
DTEND:20231104T001500
SUMMARY:305 přátel - SLEDUJÍCÍCH. BDÍCÍCH
DESCRIPTION:
LOCATION:Praha
END:VEVENT
END:VCALENDAR