BEGIN:VCALENDAR
VERSION:2.0
BEGIN:VEVENT
URL:https://1rodina.cz/index.php/sit-1rodina/udalosti/viewevent/290-podpora-bojanky-v-odvolaciho-soudu 
DTSTART:20250112T000000
DTEND:20250131T000000
SUMMARY:PODPORA BOJANKY V ODVOLACÍHO SOUDU
DESCRIPTION:
LOCATION:Svět
END:VEVENT
END:VCALENDAR