BEGIN:VCALENDAR
VERSION:2.0
BEGIN:VEVENT
URL:https://1rodina.cz/index.php/sit-1rodina/udalosti/viewevent/291-c-uctu-na-odvolaci-soud-pro-bojanku-je-2302460343-2010-do-999-czk-bez-dane 
DTSTART:20250112T000000
DTEND:20250131T000000
SUMMARY:Č. účtu na odvolací soud  pro Bojanku je 2302460343/2010 do 999,- CZK bez daně
DESCRIPTION:
LOCATION:Svět
END:VEVENT
END:VCALENDAR