BEGIN:VCALENDAR
VERSION:2.0
BEGIN:VEVENT
URL:https://1rodina.cz/index.php/sit-1rodina/udalosti/viewevent/292-soustredme-sve-sily-k-hlavnimu-cili-cr-1-8-kvetna-2025-vaclavak 
DTSTART:20250505T080000
DTEND:20250505T081500
SUMMARY:SOUSTŘEĎME SVÉ SÍLY K HLAVNÍMU CÍLI ČR 1. - 8. května 2025 VÁCLAVÁK !
DESCRIPTION:Přátelé všechna prezentovaná témata jsou zajímavá je tu takové významné ALE. Když budeme řešit a skákat z jednoho do druhého úplně se roztříští energie vložená do sta témat a  NOSNÉ TÉMA OVLIVŃUJÍCÍ VŠE OSTATNÍ JE TŘEBA UPŘEDNOSTNIT A VLOŽIT DO NĚJ SVOU ENERGII tím se posílí uskutečnění.
LOCATION:Praha
END:VEVENT
END:VCALENDAR