BEGIN:VCALENDAR
VERSION:2.0
BEGIN:VEVENT
URL:https://1rodina.cz/index.php/sit-1rodina/udalosti/viewevent/293-pratele-vidite-to-co-ja-mam-na-profilu-350-pratel-a-prispevky-davaji-dva-az-tri-a-komentuji-dva 
DTSTART:20250211T000000
DTEND:20250228T001500
SUMMARY:PŘÁTELÉ VIDÍTE TO CO JÁ, MÁM NA PROFILU 350 PŘÁTEL A PŘÍSPĚVKY DÁVAJÍ DVA AŽ TŘI A KOMENTUJÍ DVA. 
DESCRIPTION:NĚCO JE ŠPATNĚ TAK TO VIDÍM, JAK TO MÁTE VY ?
LOCATION:Česká republika
END:VEVENT
END:VCALENDAR