BEGIN:VCALENDAR
VERSION:2.0
BEGIN:VEVENT
URL:https://1rodina.cz/index.php/sit-1rodina/udalosti/viewevent/294-je-tu-nekdo-kdo-zde-dokaze-vyjadrit-svuj-vlastni-nazor 
DTSTART:20250221T000000
DTEND:20250508T001500
SUMMARY:JE TU NĚKDO KDO  ZDE DOKÁŹE VYJÁDŔIT SVÚJ VLASTNÍ NÁZOR ??? 
DESCRIPTION:Hlaste se jednotlivě ať v tom máme pořádek
LOCATION:Česká republika
END:VEVENT
END:VCALENDAR