BEGIN:VCALENDAR
VERSION:2.0
BEGIN:VEVENT
URL:https://1rodina.cz/index.php/sit-1rodina/udalosti/viewevent/295-mam-velmi-dobry-pocit-z-priprav-na-8-5-2025-v-praze-prijdte-vsichni-co-tu-mudrujete-busdu-se-tesit 
DTSTART:20250508T000000
DTEND:20250509T001500
SUMMARY:MÁM VELMI DOBRÝ POCIT Z PŘÍPRAV NA 8.5.2025 V PRAZE, PŘIJĎTE VŠICHNI CO TU MUDRUJETE BUSDU SE TĚŠIT
DESCRIPTION:
LOCATION:Praha
END:VEVENT
END:VCALENDAR