BEGIN:VCALENDAR
VERSION:2.0
BEGIN:VEVENT
URL:https://1rodina.cz/index.php/sit-1rodina/udalosti/viewevent/296-svymi-myslenkami-si-tvorime-realitu-vyslovte-tady-nejakou-svou-myslenku 
DTSTART:20250418T000000
DTEND:20250509T001500
SUMMARY:SVÝMI MYŠLENKAMI SI TVOŘÍME REALITU ,VYSLOVTE TADY NĚJAKOU SVOU MYŠLENKU 
DESCRIPTION:
LOCATION:Česká republika
END:VEVENT
END:VCALENDAR