BEGIN:VCALENDAR
VERSION:2.0
BEGIN:VEVENT
URL:https://1rodina.cz/index.php/sit-1rodina/udalosti/viewevent/297-vsem-preju-pekny-1-maj 
DTSTART:20250501T000000
DTEND:20250509T000000
SUMMARY:VŠEM PŘEJU PĚKNÝ 1. MÁJ
DESCRIPTION:A ŽÁDNÝ TAKOVÝ ZRŮDNÝ PLÁN NIKDY NEVYJDE PROTOŽE MÁME MOZEČEK A LIDSKÉ REAKCE JSOU NEVYZPYTATELNÉ.
LOCATION:Svět
END:VEVENT
END:VCALENDAR