BEGIN:VCALENDAR
VERSION:2.0
BEGIN:VEVENT
URL:https://1rodina.cz/index.php/sit-1rodina/udalosti/viewevent/298-lidicky-prijdte-8-kvetna-do-prahy-na-namesti-republiky-je-to-nase-oslava 
DTSTART:20250508T000000
DTEND:20250509T001500
SUMMARY:LIDIČKY PŘIJĎTE 8. května do Prahy na Náměstí Republiky je to NAŠE OSLAVA
DESCRIPTION:
LOCATION:Praha
END:VEVENT
END:VCALENDAR