BEGIN:VCALENDAR
VERSION:2.0
BEGIN:VEVENT
URL:https://1rodina.cz/index.php/sit-1rodina/udalosti/viewevent/299-takze-secteno-podtrzeno-kdo-z-nas-jede-zitra-8-5-2025-do-prahy 
DTSTART:20250508T000000
DTEND:20250509T001500
SUMMARY:TAKŽE SEČTENO, PODTRŽENO KDO Z NÁS JEDE ZÍTRA 8.5.2025  DO PRAHY? 
DESCRIPTION:
LOCATION:Praha
END:VEVENT
END:VCALENDAR