BEGIN:VCALENDAR
VERSION:2.0
BEGIN:VEVENT
URL:https://1rodina.cz/index.php/sit-1rodina/udalosti/viewevent/30-na-co-si-to-tady-hrajou-na-svete-je-7-6-miliardy-obyvatel-usa-ma-327-milionu-to-je-jestli-dobre-pocitam-cca-2-3 
DTSTART:20231114T000000
DTEND:20231118T001500
SUMMARY:NA CO SI TO TADY HRAJOU Na světě je 7,6 miliardy obyvatel. usa má 327 milionů to je jestli dobře počítám cca 2,3%. 
DESCRIPTION:2,3%
LOCATION:královéhradecký kraj
END:VEVENT
END:VCALENDAR