BEGIN:VCALENDAR
VERSION:2.0
BEGIN:VEVENT
URL:https://1rodina.cz/index.php/sit-1rodina/udalosti/viewevent/300-kdo-neslavi-neni-cech 
DTSTART:20250508T000000
DTEND:20250509T000000
SUMMARY:KDO NESLAVÍ NENÍ ČECH
DESCRIPTION:
LOCATION:Praha
END:VEVENT
END:VCALENDAR