BEGIN:VCALENDAR
VERSION:2.0
BEGIN:VEVENT
URL:https://1rodina.cz/index.php/sit-1rodina/udalosti/viewevent/301-18-000-shlednuti-na-petr-bures-tv-z-namesti-miru-8-5-2025 
DTSTART:20250509T000000
DTEND:20250531T000000
SUMMARY:18 000 shlédnutí na Petr Bureš TV z Náměstí Míru 8.5.2025
DESCRIPTION:Kdo jste nebyl mrkněte jedním okem na nás co jsme byli
LOCATION:Praha
END:VEVENT
END:VCALENDAR