BEGIN:VCALENDAR
VERSION:2.0
BEGIN:VEVENT
URL:https://1rodina.cz/index.php/sit-1rodina/udalosti/viewevent/302-kdo-ma-svou-vlastni-myslenku-s-tim-rad-pokecam 
DTSTART:20250522T000000
DTEND:20250531T000000
SUMMARY:KDO MÁ SVOU VLASTNÍ MYŠLENKU S TÍM RÁD POKECÁM
DESCRIPTION:
LOCATION:Svět
END:VEVENT
END:VCALENDAR