BEGIN:VCALENDAR
VERSION:2.0
BEGIN:VEVENT
URL:https://1rodina.cz/index.php/sit-1rodina/udalosti/viewevent/303-no-vidim-ze-nikdo-tak-dam-jednu-k-dobru 
DTSTART:20250526T000000
DTEND:20250531T000000
SUMMARY:NO VIDÍM ŽE NIKDO TAK DÁM JEDNU K DOBRU
DESCRIPTION:PŘEDSUDKY NÁM BEROU SEBĚVĚDOMÍ A ODVAHU K ČINŮM
LOCATION:SVĚT
END:VEVENT
END:VCALENDAR